BEGIN:VCALENDAR
VERSION:2.0
PRODID:-//Dave Stamey - ECPv6.15.20//NONSGML v1.0//EN
CALSCALE:GREGORIAN
METHOD:PUBLISH
X-WR-CALNAME:Dave Stamey
X-ORIGINAL-URL:https://davestamey.com
X-WR-CALDESC:Events for Dave Stamey
REFRESH-INTERVAL;VALUE=DURATION:PT1H
X-Robots-Tag:noindex
X-PUBLISHED-TTL:PT1H
BEGIN:VTIMEZONE
TZID:America/Denver
BEGIN:DAYLIGHT
TZOFFSETFROM:-0700
TZOFFSETTO:-0600
TZNAME:MDT
DTSTART:20250309T090000
END:DAYLIGHT
BEGIN:STANDARD
TZOFFSETFROM:-0600
TZOFFSETTO:-0700
TZNAME:MST
DTSTART:20251102T080000
END:STANDARD
BEGIN:DAYLIGHT
TZOFFSETFROM:-0700
TZOFFSETTO:-0600
TZNAME:MDT
DTSTART:20260308T090000
END:DAYLIGHT
BEGIN:STANDARD
TZOFFSETFROM:-0600
TZOFFSETTO:-0700
TZNAME:MST
DTSTART:20261101T080000
END:STANDARD
BEGIN:DAYLIGHT
TZOFFSETFROM:-0700
TZOFFSETTO:-0600
TZNAME:MDT
DTSTART:20270314T090000
END:DAYLIGHT
BEGIN:STANDARD
TZOFFSETFROM:-0600
TZOFFSETTO:-0700
TZNAME:MST
DTSTART:20271107T080000
END:STANDARD
END:VTIMEZONE
BEGIN:VEVENT
DTSTART;TZID=America/Denver:20260418T090000
DTEND;TZID=America/Denver:20260419T170000
DTSTAMP:20260419T205930
CREATED:20260116T190600Z
LAST-MODIFIED:20260116T190600Z
UID:10000141-1776502800-1776618000@davestamey.com
SUMMARY:Santa Clarita Cowboy Festival
DESCRIPTION:
URL:https://davestamey.com/event/santa-clarita-cowboy-festival/
LOCATION:UT
END:VEVENT
BEGIN:VEVENT
DTSTART;TZID=America/Denver:20260424T193000
DTEND;TZID=America/Denver:20260424T220000
DTSTAMP:20260419T205930
CREATED:20260116T190932Z
LAST-MODIFIED:20260116T190932Z
UID:10000142-1777059000-1777068000@davestamey.com
SUMMARY:Genoa Western Heritage Festival
DESCRIPTION:
URL:https://davestamey.com/event/genoa-western-heritage-festival-2/
LOCATION:Genoa Town Hall
END:VEVENT
BEGIN:VEVENT
DTSTART;TZID=America/Denver:20260425T180000
DTEND;TZID=America/Denver:20260425T203000
DTSTAMP:20260419T205930
CREATED:20260116T191055Z
LAST-MODIFIED:20260116T191055Z
UID:10000143-1777140000-1777149000@davestamey.com
SUMMARY:Private Event Valley Center\, CA
DESCRIPTION:
URL:https://davestamey.com/event/private-event-valley-center-ca/
LOCATION:UT
END:VEVENT
END:VCALENDAR