BEGIN:VCALENDAR
VERSION:2.0
PRODID:-//Dave Stamey - ECPv6.15.20//NONSGML v1.0//EN
CALSCALE:GREGORIAN
METHOD:PUBLISH
X-WR-CALNAME:Dave Stamey
X-ORIGINAL-URL:https://davestamey.com
X-WR-CALDESC:Events for Dave Stamey
REFRESH-INTERVAL;VALUE=DURATION:PT1H
X-Robots-Tag:noindex
X-PUBLISHED-TTL:PT1H
BEGIN:VTIMEZONE
TZID:America/Denver
BEGIN:DAYLIGHT
TZOFFSETFROM:-0700
TZOFFSETTO:-0600
TZNAME:MDT
DTSTART:20230312T090000
END:DAYLIGHT
BEGIN:STANDARD
TZOFFSETFROM:-0600
TZOFFSETTO:-0700
TZNAME:MST
DTSTART:20231105T080000
END:STANDARD
BEGIN:DAYLIGHT
TZOFFSETFROM:-0700
TZOFFSETTO:-0600
TZNAME:MDT
DTSTART:20240310T090000
END:DAYLIGHT
BEGIN:STANDARD
TZOFFSETFROM:-0600
TZOFFSETTO:-0700
TZNAME:MST
DTSTART:20241103T080000
END:STANDARD
BEGIN:DAYLIGHT
TZOFFSETFROM:-0700
TZOFFSETTO:-0600
TZNAME:MDT
DTSTART:20250309T090000
END:DAYLIGHT
BEGIN:STANDARD
TZOFFSETFROM:-0600
TZOFFSETTO:-0700
TZNAME:MST
DTSTART:20251102T080000
END:STANDARD
END:VTIMEZONE
BEGIN:VEVENT
DTSTART;TZID=America/Denver:20240802T080000
DTEND;TZID=America/Denver:20240802T170000
DTSTAMP:20260419T072039
CREATED:20240508T030127Z
LAST-MODIFIED:20240508T030127Z
UID:10000015-1722585600-1722618000@davestamey.com
SUMMARY:Private Event
DESCRIPTION:
URL:https://davestamey.com/event/private-event-5/
LOCATION:Hamilton\, Hamilton\, MT\, United States
END:VEVENT
BEGIN:VEVENT
DTSTART;TZID=America/Denver:20240803T080000
DTEND;TZID=America/Denver:20240803T170000
DTSTAMP:20260419T072039
CREATED:20240508T030308Z
LAST-MODIFIED:20240528T205308Z
UID:10000016-1722672000-1722704400@davestamey.com
SUMMARY:Ovando Montana 100 Year Celebration
DESCRIPTION:
URL:https://davestamey.com/event/ovando-montana-100-year-celebration/
LOCATION:Ovando\, Ovando\, MT\, United States
END:VEVENT
BEGIN:VEVENT
DTSTART;TZID=America/Denver:20240804T080000
DTEND;TZID=America/Denver:20240804T170000
DTSTAMP:20260419T072039
CREATED:20240508T030545Z
LAST-MODIFIED:20240627T162420Z
UID:10000017-1722758400-1722790800@davestamey.com
SUMMARY:DJ Quinn's Ranch Concert
DESCRIPTION:Call D.J. at 406-560-1989
URL:https://davestamey.com/event/dj-quinns-ranch-concert/
LOCATION:Alder\, Alder\, MT\, United States
END:VEVENT
BEGIN:VEVENT
DTSTART;TZID=America/Denver:20240808T080000
DTEND;TZID=America/Denver:20240810T170000
DTSTAMP:20260419T072039
CREATED:20240508T030742Z
LAST-MODIFIED:20240508T030910Z
UID:10000018-1723104000-1723309200@davestamey.com
SUMMARY:Arizona Cowboy Gathering
DESCRIPTION:
URL:https://davestamey.com/event/arizona-cowboy-gathering/
LOCATION:Prescott\, Prescott\, AZ\, United States
END:VEVENT
BEGIN:VEVENT
DTSTART;TZID=America/Denver:20240816T190000
DTEND;TZID=America/Denver:20240816T210000
DTSTAMP:20260419T072039
CREATED:20240528T154729Z
LAST-MODIFIED:20240528T154729Z
UID:10000027-1723834800-1723842000@davestamey.com
SUMMARY:Private Event Montecito\, CA
DESCRIPTION:
URL:https://davestamey.com/event/private-event-montecito-ca/
LOCATION:The Valley Club
END:VEVENT
BEGIN:VEVENT
DTSTART;TZID=America/Denver:20240817T180000
DTEND;TZID=America/Denver:20240817T210000
DTSTAMP:20260419T072039
CREATED:20240528T155122Z
LAST-MODIFIED:20240528T155122Z
UID:10000028-1723917600-1723928400@davestamey.com
SUMMARY:Concert On the Tennis Court\, Briones\, CA
DESCRIPTION:
URL:https://davestamey.com/event/concert-on-the-tennis-court-briones-ca/
LOCATION:UT
ORGANIZER;CN="Kelly Brown":MAILTO:cowgeerl@yahoo.com
END:VEVENT
BEGIN:VEVENT
DTSTART;VALUE=DATE:20240823
DTEND;VALUE=DATE:20240824
DTSTAMP:20260419T072039
CREATED:20240528T155522Z
LAST-MODIFIED:20240528T155522Z
UID:10000029-1724371200-1724457599@davestamey.com
SUMMARY:Kennedy Meadows Music Festival
DESCRIPTION:
URL:https://davestamey.com/event/kennedy-meadows-music-festival/
LOCATION:Kennedy Meadows Pack Station & Resort
END:VEVENT
BEGIN:VEVENT
DTSTART;TZID=America/Denver:20240824T080000
DTEND;TZID=America/Denver:20240824T170000
DTSTAMP:20260419T072039
CREATED:20240508T031029Z
LAST-MODIFIED:20240508T031029Z
UID:10000019-1724486400-1724518800@davestamey.com
SUMMARY:Bella Grace Wine Cave
DESCRIPTION:
URL:https://davestamey.com/event/bella-grace-wine-cave/
LOCATION:Plymouth\, Plymouth\, CA\, United States
END:VEVENT
BEGIN:VEVENT
DTSTART;TZID=America/Denver:20240829T080000
DTEND;TZID=America/Denver:20240829T170000
DTSTAMP:20260419T072039
CREATED:20240829T160319Z
LAST-MODIFIED:20240829T160319Z
UID:10000075-1724918400-1724950800@davestamey.com
SUMMARY:Driggs\, ID Hay Days (Tentative)
DESCRIPTION:
URL:https://davestamey.com/event/driggs-id-hay-days-tentative/
LOCATION:UT
END:VEVENT
BEGIN:VEVENT
DTSTART;TZID=America/Denver:20240831T080000
DTEND;TZID=America/Denver:20240831T170000
DTSTAMP:20260419T072039
CREATED:20240508T031214Z
LAST-MODIFIED:20240528T205450Z
UID:10000020-1725091200-1725123600@davestamey.com
SUMMARY:Concert in the Round Pen
DESCRIPTION:
URL:https://davestamey.com/event/tentative-concert-in-the-round-pen/
LOCATION:UT
END:VEVENT
END:VCALENDAR