BEGIN:VCALENDAR
VERSION:2.0
PRODID:-//Dave Stamey - ECPv6.15.20//NONSGML v1.0//EN
CALSCALE:GREGORIAN
METHOD:PUBLISH
X-ORIGINAL-URL:https://davestamey.com
X-WR-CALDESC:Events for Dave Stamey
REFRESH-INTERVAL;VALUE=DURATION:PT1H
X-Robots-Tag:noindex
X-PUBLISHED-TTL:PT1H
BEGIN:VTIMEZONE
TZID:America/Denver
BEGIN:DAYLIGHT
TZOFFSETFROM:-0700
TZOFFSETTO:-0600
TZNAME:MDT
DTSTART:20230312T090000
END:DAYLIGHT
BEGIN:STANDARD
TZOFFSETFROM:-0600
TZOFFSETTO:-0700
TZNAME:MST
DTSTART:20231105T080000
END:STANDARD
BEGIN:DAYLIGHT
TZOFFSETFROM:-0700
TZOFFSETTO:-0600
TZNAME:MDT
DTSTART:20240310T090000
END:DAYLIGHT
BEGIN:STANDARD
TZOFFSETFROM:-0600
TZOFFSETTO:-0700
TZNAME:MST
DTSTART:20241103T080000
END:STANDARD
BEGIN:DAYLIGHT
TZOFFSETFROM:-0700
TZOFFSETTO:-0600
TZNAME:MDT
DTSTART:20250309T090000
END:DAYLIGHT
BEGIN:STANDARD
TZOFFSETFROM:-0600
TZOFFSETTO:-0700
TZNAME:MST
DTSTART:20251102T080000
END:STANDARD
END:VTIMEZONE
BEGIN:VEVENT
DTSTART;TZID=America/Denver:20240601T080000
DTEND;TZID=America/Denver:20240601T170000
DTSTAMP:20260419T154433
CREATED:20240507T194248Z
LAST-MODIFIED:20240508T033112Z
UID:10000004-1717228800-1717261200@davestamey.com
SUMMARY:Private Event
DESCRIPTION:
URL:https://davestamey.com/event/private-event-2/
LOCATION:Santa Fe\, Santa Fe\, New Mexico\, NM\, United States
END:VEVENT
BEGIN:VEVENT
DTSTART;TZID=America/Denver:20240602T190000
DTEND;TZID=America/Denver:20240602T220000
DTSTAMP:20260419T154433
CREATED:20240528T150803Z
LAST-MODIFIED:20240528T150803Z
UID:10000023-1717354800-1717365600@davestamey.com
SUMMARY:Private Event\, Santa FE\, NM
DESCRIPTION:
URL:https://davestamey.com/event/private-event-santa-fe-nm/
LOCATION:UT
END:VEVENT
BEGIN:VEVENT
DTSTART;TZID=America/Denver:20240608T180000
DTEND;TZID=America/Denver:20240608T203000
DTSTAMP:20260419T154433
CREATED:20240507T194435Z
LAST-MODIFIED:20240529T213040Z
UID:10000005-1717869600-1717878600@davestamey.com
SUMMARY:Double J Ranch Concert
DESCRIPTION:
URL:https://davestamey.com/event/double-j-ranch-concert/
LOCATION:Double J Ranch\, 38830 Berenda Road\, Temecula\, CA
END:VEVENT
BEGIN:VEVENT
DTSTART;TZID=America/Denver:20240613T180000
DTEND;TZID=America/Denver:20240613T220000
DTSTAMP:20260419T154433
CREATED:20240528T151812Z
LAST-MODIFIED:20240528T151812Z
UID:10000024-1718301600-1718316000@davestamey.com
SUMMARY:Heart of the Horse Benefit Concert
DESCRIPTION:
URL:https://davestamey.com/event/heart-of-the-horse-benefit-concert/
LOCATION:People’s Church\, 7172 N. Cedar Ave.\, Fresno\, CA\, United States
END:VEVENT
BEGIN:VEVENT
DTSTART;TZID=America/Denver:20240615T080000
DTEND;TZID=America/Denver:20240615T170000
DTSTAMP:20260419T154433
CREATED:20240507T194710Z
LAST-MODIFIED:20240508T033140Z
UID:10000006-1718438400-1718470800@davestamey.com
SUMMARY:Private Event
DESCRIPTION:
URL:https://davestamey.com/event/private-event-3/
LOCATION:Sonoita\, Sonoita\, Sonoita\, AZ\, United States
END:VEVENT
BEGIN:VEVENT
DTSTART;TZID=America/Denver:20240629T080000
DTEND;TZID=America/Denver:20240629T170000
DTSTAMP:20260419T154433
CREATED:20240508T014541Z
LAST-MODIFIED:20240508T014624Z
UID:10000008-1719648000-1719680400@davestamey.com
SUMMARY:Concert WYO Theater
DESCRIPTION:
URL:https://davestamey.com/event/concert-wyo-theater/
LOCATION:Sheridan\, Sheridan\, Sheridan\, WY\, United States
END:VEVENT
END:VCALENDAR