BEGIN:VCALENDAR
VERSION:2.0
PRODID:-//Dave Stamey - ECPv6.15.20//NONSGML v1.0//EN
CALSCALE:GREGORIAN
METHOD:PUBLISH
X-WR-CALNAME:Dave Stamey
X-ORIGINAL-URL:https://davestamey.com
X-WR-CALDESC:Events for Dave Stamey
REFRESH-INTERVAL;VALUE=DURATION:PT1H
X-Robots-Tag:noindex
X-PUBLISHED-TTL:PT1H
BEGIN:VTIMEZONE
TZID:America/Denver
BEGIN:DAYLIGHT
TZOFFSETFROM:-0700
TZOFFSETTO:-0600
TZNAME:MDT
DTSTART:20230312T090000
END:DAYLIGHT
BEGIN:STANDARD
TZOFFSETFROM:-0600
TZOFFSETTO:-0700
TZNAME:MST
DTSTART:20231105T080000
END:STANDARD
BEGIN:DAYLIGHT
TZOFFSETFROM:-0700
TZOFFSETTO:-0600
TZNAME:MDT
DTSTART:20240310T090000
END:DAYLIGHT
BEGIN:STANDARD
TZOFFSETFROM:-0600
TZOFFSETTO:-0700
TZNAME:MST
DTSTART:20241103T080000
END:STANDARD
BEGIN:DAYLIGHT
TZOFFSETFROM:-0700
TZOFFSETTO:-0600
TZNAME:MDT
DTSTART:20250309T090000
END:DAYLIGHT
BEGIN:STANDARD
TZOFFSETFROM:-0600
TZOFFSETTO:-0700
TZNAME:MST
DTSTART:20251102T080000
END:STANDARD
END:VTIMEZONE
BEGIN:VEVENT
DTSTART;TZID=America/Denver:20241018T190000
DTEND;TZID=America/Denver:20241018T220000
DTSTAMP:20260419T073610
CREATED:20240528T170917Z
LAST-MODIFIED:20240528T170917Z
UID:10000039-1729278000-1729288800@davestamey.com
SUMMARY:House Concert
DESCRIPTION:
URL:https://davestamey.com/event/house-concert-2/
LOCATION:Wicheta House Concert Series\, Wenatchee\, WA\, United States
END:VEVENT
END:VCALENDAR